BEGIN:VCALENDAR
VERSION:2.0
PRODID:-//Library Market//iCal Export//EN
BEGIN:VEVENT
SUMMARY:Friends Book Sale
UID:14927
DTSTAMP:20260425T141300Z
DTSTART:20261010T140000Z
DTEND:20261010T170000Z
LOCATION:230 Fourth Ave., Baraboo, WI 53913, United States
ROOM: Auditorium - Topham Family Foundation Auditorium
DESCRIPTION:Book Sale - Bag Sale 
URL:https://calendar.csmpl.org/event/friends-book-sale-14927
END:VEVENT
END:VCALENDAR
