BEGIN:VCALENDAR
VERSION:2.0
PRODID:-//Library Market//iCal Export//EN
BEGIN:VEVENT
SUMMARY:Take and Make: Build a Bird
UID:14905
DTSTAMP:20260424T003700Z
DTSTART:20260507T050000Z
DTEND:20260507T050000Z
LOCATION:230 Fourth Ave., Baraboo, WI 53913, United States
ROOM: Other
DESCRIPTION:Time to get your craft on! Make and take kits for crafting bir
 ds will be available for children and teens ages 3-17. The kits can be pic
 ked up in the Youth Area between the dates of Monday, May 4-Saturday, May 
 9. One kit per person and kits will be available while supplies last. Comp
 leted projects can be brought back to the Youth Area to display if the par
 ticipant chooses to.
URL:https://calendar.csmpl.org/event/take-and-make-build-bird-14905
END:VEVENT
END:VCALENDAR
