BEGIN:VCALENDAR
VERSION:2.0
PRODID:-//Library Market//iCal Export//EN
BEGIN:VEVENT
SUMMARY:Readers Anonymous Book Club (for Millennials)
UID:14870
DTSTAMP:20260423T001600Z
DTSTART:20270129T003000Z
DTEND:20270129T020000Z
LOCATION:230 Fourth Ave., Baraboo, WI 53913, United States
ROOM: Other
DESCRIPTION:
URL:https://calendar.csmpl.org/event/readers-anonymous-book-club-millennia
 ls-14870
END:VEVENT
END:VCALENDAR
