BEGIN:VCALENDAR
VERSION:2.0
PRODID:-//Library Market//iCal Export//EN
BEGIN:VEVENT
SUMMARY:Readers Anonymous Book Club (for Millennials)
UID:14867
DTSTAMP:20260423T001600Z
DTSTART:20260924T233000Z
DTEND:20260925T010000Z
LOCATION:230 Fourth Ave., Baraboo, WI 53913, United States
ROOM: Other
DESCRIPTION:
URL:https://calendar.csmpl.org/event/readers-anonymous-book-club-millennia
 ls-14867
END:VEVENT
END:VCALENDAR
