BEGIN:VCALENDAR
VERSION:2.0
PRODID:-//Library Market//iCal Export//EN
BEGIN:VEVENT
SUMMARY:Readers Anonymous Book Club (for Millennials)
UID:14866
DTSTAMP:20260422T233800Z
DTSTART:20260827T233000Z
DTEND:20260828T010000Z
LOCATION:230 Fourth Ave., Baraboo, WI 53913, United States
ROOM: Other
DESCRIPTION:
URL:https://calendar.csmpl.org/event/readers-anonymous-book-club-millennia
 ls-14866
END:VEVENT
END:VCALENDAR
