BEGIN:VCALENDAR
VERSION:2.0
PRODID:-//Library Market//iCal Export//EN
BEGIN:VEVENT
SUMMARY:Teen After Hours Event: Hide and Seek/Sardines
UID:14826
DTSTAMP:20260422T102000Z
DTSTART:20260619T230000Z
DTEND:20260620T003000Z
LOCATION:230 Fourth Ave., Baraboo, WI 53913, United States
ROOM: Other
DESCRIPTION:Teens, play Hide-and-Seek and Sardines in the closed library! 
 Snacks will be provided. 
URL:https://calendar.csmpl.org/event/teen-after-hours-event-hide-and-seeks
 ardines-14826
END:VEVENT
END:VCALENDAR
