BEGIN:VCALENDAR
VERSION:2.0
PRODID:-//Library Market//iCal Export//EN
BEGIN:VEVENT
SUMMARY:Giant Jenga for Adults
UID:14799
DTSTAMP:20260421T085700Z
DTSTART:20260713T230000Z
DTEND:20260714T000000Z
LOCATION:230 Fourth Ave., Baraboo, WI 53913, United States
ROOM: Other
DESCRIPTION:The classic game, but bigger! Join us for an evening of fun on
  the library lawn (near the old Carnegie Entrance). The program will move 
 into the auditorium in case of inclement weather. No registration required
 .Tuesday, July 7, 6:00 PM outside the library (near old entrance)
URL:https://calendar.csmpl.org/event/giant-jenga-adults-14799
END:VEVENT
END:VCALENDAR
