BEGIN:VCALENDAR
VERSION:2.0
PRODID:-//Library Market//iCal Export//EN
BEGIN:VEVENT
SUMMARY:Theater Thursday-Land Before Time
UID:14798
DTSTAMP:20260421T164300Z
DTSTART:20260723T200000Z
DTEND:20260723T210000Z
LOCATION:230 Fourth Ave., Baraboo, WI 53913, United States
ROOM: Auditorium - Topham Family Foundation Auditorium
DESCRIPTION:Join us for a movie on the library big screen that the whole f
 amily can enjoy! We will be watching Land Before Time which is rated G and
  should end around 4:00 PM. A snack will be provided at the halfway point 
 in the movie. Intended for children and their adults. 
URL:https://calendar.csmpl.org/event/theater-thursday-land-time-14798
END:VEVENT
END:VCALENDAR
