BEGIN:VCALENDAR
VERSION:2.0
PRODID:-//Library Market//iCal Export//EN
BEGIN:VEVENT
SUMMARY:Theater Thursday-The Good Dinosaur
UID:14797
DTSTAMP:20260421T103800Z
DTSTART:20260625T200000Z
DTEND:20260625T213000Z
LOCATION:230 Fourth Ave., Baraboo, WI 53913, United States
ROOM: Auditorium - Topham Family Foundation Auditorium
DESCRIPTION:Join us for a movie on the library big screen that the whole f
 amily can enjoy!  We will be watching The Good Dinosaur which is rated PG
 . The movie has a running time of 100 minutes, so we should be done around
  4:30 PM. A snack will be provided at the halfway point in the movie. Inte
 nded for children and their adults.
URL:https://calendar.csmpl.org/event/theater-thursdays-14797
END:VEVENT
END:VCALENDAR
