BEGIN:VCALENDAR
VERSION:2.0
PRODID:-//Library Market//iCal Export//EN
BEGIN:VEVENT
SUMMARY:Cuddle Up and Be Cozy Evening Storytime
UID:14795
DTSTAMP:20260422T120700Z
DTSTART:20260803T233000Z
DTEND:20260804T003000Z
LOCATION:230 Fourth Ave., Baraboo, WI 53913, United States
ROOM: Children&#039;s Program Room
DESCRIPTION:An evening storytime intended for children and their caregiver
 s. We&#039;ll share a few stories, songs, and a snack. Children are encour
 aged to wear their pajamas and bring their favorite stuffed animal to join
  in on the fun. 
URL:https://calendar.csmpl.org/event/cuddle-and-be-cozy-evening-storytime-
 14795
END:VEVENT
END:VCALENDAR
