BEGIN:VCALENDAR
VERSION:2.0
PRODID:-//Library Market//iCal Export//EN
BEGIN:VEVENT
SUMMARY:Dinosaur Parade Workshop and Walk
UID:14793
DTSTAMP:20260422T135700Z
DTSTART:20260618T200000Z
DTEND:20260618T211500Z
LOCATION:230 Fourth Ave., Baraboo, WI 53913, United States
ROOM: Children&#039;s Program Room
DESCRIPTION:Ready for a ROARING good time? Children and their adult/s are 
 invited to the library to craft a simple dinosaur costume and then to para
 de around the downtown square. Weather permitting, the parade will begin a
 t approximately 4:00 PM and we will return to the library by 4:15PM. Regis
 ter only the name of the child that will be participating.  All materials
  for creation will be provided by the library, but feel free to bring item
 s from home to supplement a costume or if you have something specific in m
 ind. Please no weapons or possibly dangerous items. 
URL:https://calendar.csmpl.org/event/dinosaur-parade-workshop-and-walk-147
 93
END:VEVENT
END:VCALENDAR
