BEGIN:VCALENDAR
VERSION:2.0
PRODID:-//Library Market//iCal Export//EN
BEGIN:VEVENT
SUMMARY:“Our Favorite Things” Piano Duet Concert
UID:14789
DTSTAMP:20260420T210100Z
DTSTART:20260501T233000Z
DTEND:20260502T010000Z
LOCATION:First United Methodist Church of Baraboo, 615 Broadway St., Barab
 oo, WI 53913, United States
ROOM: Offsite
DESCRIPTION:Zach and Gretchen are back for another night of lovely music. 
 Join us for an evening of their &quot;Favorite Things&quot;, a collection 
 of songs from concerts&#039; past. The concert will be held at First Unit
 ed Methodist Church of Baraboo (right next to the library) at 6:30 PM on F
 riday, May 1. This event is open to the public and free to attend, no regi
 stration required. 
URL:https://calendar.csmpl.org/event/our-favorite-things-piano-duet-concer
 t-14789
END:VEVENT
END:VCALENDAR
