BEGIN:VCALENDAR
VERSION:2.0
PRODID:-//Library Market//iCal Export//EN
BEGIN:VEVENT
SUMMARY:Friends of the Library Book Sale
UID:14773
DTSTAMP:20260420T175900Z
DTSTART:20260424T140000Z
DTEND:20260425T200000Z
LOCATION:230 Fourth Ave., Baraboo, WI 53913, United States
ROOM: Auditorium - Topham Family Foundation Auditorium
DESCRIPTION:The Friends of the Carnegie-Schadde Memorial Public Library in
 vite you to their upcoming Book Sale—an important fundraiser that direct
 ly supports library programs, services, and community initiatives. Every p
 urchase helps strengthen the library’s mission and enrich resources for 
 all who visit.The sale will be held in the library auditorium on:Friday, A
 pril 24 — 9:00 AM to 5:00 PMSaturday, April 25 — 9:00 AM to 3:00 PMOn 
 Saturday from Noon to 3:00 PM, shoppers can take advantage of the popular 
 $5 Bag Sale. Bags will be provided, and you’re welcome to fill them with
  as many sale items as they can hold.Come browse great reads at great pric
 es—all while supporting your library!
URL:https://calendar.csmpl.org/event/friends-library-book-sale-14773
END:VEVENT
END:VCALENDAR
