BEGIN:VCALENDAR
VERSION:2.0
PRODID:-//Library Market//iCal Export//EN
BEGIN:VEVENT
SUMMARY:Teen Tuesday: Board Games
UID:14745
DTSTAMP:20260420T192800Z
DTSTART:20260602T210000Z
DTEND:20260602T220000Z
LOCATION:230 Fourth Ave., Baraboo, WI 53913, United States
ROOM: Creative Classroom
DESCRIPTION:Board Game Day! Teens will have the range of the board game cl
 oset to choose from.
URL:https://calendar.csmpl.org/event/teen-tuesday-board-games-14745
END:VEVENT
END:VCALENDAR
