BEGIN:VCALENDAR
VERSION:2.0
PRODID:-//Library Market//iCal Export//EN
BEGIN:VEVENT
SUMMARY:Teen Tuesday: Teens&#039; Choice
UID:14743
DTSTAMP:20260420T192800Z
DTSTART:20260526T210000Z
DTEND:20260526T220000Z
LOCATION:230 Fourth Ave., Baraboo, WI 53913, United States
ROOM: Creative Classroom
DESCRIPTION:Teens get to decide what we do today! Crafts, video games, boa
 rd games, hang out time, or whatever they decide. 
URL:https://calendar.csmpl.org/event/teen-tuesday-teens-choice-14743
END:VEVENT
END:VCALENDAR
