BEGIN:VCALENDAR
VERSION:2.0
PRODID:-//Library Market//iCal Export//EN
BEGIN:VEVENT
SUMMARY:Teen Tuesday: Legos
UID:14742
DTSTAMP:20260420T192800Z
DTSTART:20260519T210000Z
DTEND:20260519T220000Z
LOCATION:230 Fourth Ave., Baraboo, WI 53913, United States
ROOM: Creative Classroom
DESCRIPTION:Help decorate the Creative Classroom with new Lego creations! 
 We&#039;ve got the Legos, teens bring their imagination!
URL:https://calendar.csmpl.org/event/teen-tuesday-legos-14742
END:VEVENT
END:VCALENDAR
